BEGIN:VCALENDAR
VERSION:2.0
PRODID:-//Dorpsbelangen Lageland - ECPv6.15.17//NONSGML v1.0//EN
CALSCALE:GREGORIAN
METHOD:PUBLISH
X-ORIGINAL-URL:https://dorpsbelangenlageland.nl
X-WR-CALDESC:Evenementen voor Dorpsbelangen Lageland
REFRESH-INTERVAL;VALUE=DURATION:PT1H
X-Robots-Tag:noindex
X-PUBLISHED-TTL:PT1H
BEGIN:VTIMEZONE
TZID:Europe/Amsterdam
BEGIN:DAYLIGHT
TZOFFSETFROM:+0100
TZOFFSETTO:+0200
TZNAME:CEST
DTSTART:20240331T010000
END:DAYLIGHT
BEGIN:STANDARD
TZOFFSETFROM:+0200
TZOFFSETTO:+0100
TZNAME:CET
DTSTART:20241027T010000
END:STANDARD
BEGIN:DAYLIGHT
TZOFFSETFROM:+0100
TZOFFSETTO:+0200
TZNAME:CEST
DTSTART:20250330T010000
END:DAYLIGHT
BEGIN:STANDARD
TZOFFSETFROM:+0200
TZOFFSETTO:+0100
TZNAME:CET
DTSTART:20251026T010000
END:STANDARD
BEGIN:DAYLIGHT
TZOFFSETFROM:+0100
TZOFFSETTO:+0200
TZNAME:CEST
DTSTART:20260329T010000
END:DAYLIGHT
BEGIN:STANDARD
TZOFFSETFROM:+0200
TZOFFSETTO:+0100
TZNAME:CET
DTSTART:20261025T010000
END:STANDARD
END:VTIMEZONE
BEGIN:VEVENT
DTSTART;TZID=Europe/Amsterdam:20250508T193000
DTEND;TZID=Europe/Amsterdam:20250508T220000
DTSTAMP:20260423T140325
CREATED:20250203T134653Z
LAST-MODIFIED:20250203T134653Z
UID:678-1746732600-1746741600@dorpsbelangenlageland.nl
SUMMARY:ALV 8 mei
DESCRIPTION:Algemene ledenvergadering en eerste bijeenkomst dorpsvisie
URL:https://dorpsbelangenlageland.nl/evenement/alv-8-mei/
LOCATION:Café de IJzeren Klap\, Lageland\, Hamweg 126\, Lageland\, Groningen\, 9617 AV\, Nederland
END:VEVENT
END:VCALENDAR